BEGIN:VCALENDAR
VERSION:2.0
PRODID:-//Helmut-Schmidt-Gymnasium - ECPv6.15.15//NONSGML v1.0//EN
CALSCALE:GREGORIAN
METHOD:PUBLISH
X-ORIGINAL-URL:https://helmutschmidtgymnasium.de
X-WR-CALDESC:Veranstaltungen für Helmut-Schmidt-Gymnasium
REFRESH-INTERVAL;VALUE=DURATION:PT1H
X-Robots-Tag:noindex
X-PUBLISHED-TTL:PT1H
BEGIN:VTIMEZONE
TZID:Europe/Berlin
BEGIN:DAYLIGHT
TZOFFSETFROM:+0100
TZOFFSETTO:+0200
TZNAME:CEST
DTSTART:20180325T010000
END:DAYLIGHT
BEGIN:STANDARD
TZOFFSETFROM:+0200
TZOFFSETTO:+0100
TZNAME:CET
DTSTART:20181028T010000
END:STANDARD
BEGIN:DAYLIGHT
TZOFFSETFROM:+0100
TZOFFSETTO:+0200
TZNAME:CEST
DTSTART:20190331T010000
END:DAYLIGHT
BEGIN:STANDARD
TZOFFSETFROM:+0200
TZOFFSETTO:+0100
TZNAME:CET
DTSTART:20191027T010000
END:STANDARD
BEGIN:DAYLIGHT
TZOFFSETFROM:+0100
TZOFFSETTO:+0200
TZNAME:CEST
DTSTART:20200329T010000
END:DAYLIGHT
BEGIN:STANDARD
TZOFFSETFROM:+0200
TZOFFSETTO:+0100
TZNAME:CET
DTSTART:20201025T010000
END:STANDARD
BEGIN:DAYLIGHT
TZOFFSETFROM:+0100
TZOFFSETTO:+0200
TZNAME:CEST
DTSTART:20210328T010000
END:DAYLIGHT
BEGIN:STANDARD
TZOFFSETFROM:+0200
TZOFFSETTO:+0100
TZNAME:CET
DTSTART:20211031T010000
END:STANDARD
END:VTIMEZONE
BEGIN:VEVENT
DTSTART;TZID=Europe/Berlin:20191220T000000
DTEND;TZID=Europe/Berlin:20200105T235959
DTSTAMP:20260425T151909
CREATED:20191126T121233Z
LAST-MODIFIED:20191126T121234Z
UID:4822-1576800000-1578268799@helmutschmidtgymnasium.de
SUMMARY:Weihnachtsferien
DESCRIPTION:
URL:https://helmutschmidtgymnasium.de/termin/weihnachtsferien-2/
END:VEVENT
BEGIN:VEVENT
DTSTART;TZID=Europe/Berlin:20200113T080000
DTEND;TZID=Europe/Berlin:20200115T160000
DTSTAMP:20260425T151909
CREATED:20200108T173019Z
LAST-MODIFIED:20200108T173249Z
UID:5060-1578902400-1579104000@helmutschmidtgymnasium.de
SUMMARY:Berufs-und Studien-orientierungstage
DESCRIPTION:
URL:https://helmutschmidtgymnasium.de/termin/berufs-und-studienorientierungstage/
END:VEVENT
BEGIN:VEVENT
DTSTART;TZID=Europe/Berlin:20200113T180000
DTEND;TZID=Europe/Berlin:20200113T200000
DTSTAMP:20260425T151909
CREATED:20190905T111125Z
LAST-MODIFIED:20190905T111125Z
UID:4655-1578938400-1578945600@helmutschmidtgymnasium.de
SUMMARY:Informationsabend für Eltern der 4. Klassen
DESCRIPTION:
URL:https://helmutschmidtgymnasium.de/termin/informationsabend-fuer-eltern-der-4-klassen/
LOCATION:Aula TzW\, Haus D\, Krieterstraße 2-5\, 21109 Hamburg
END:VEVENT
BEGIN:VEVENT
DTSTART;TZID=Europe/Berlin:20200130T000000
DTEND;TZID=Europe/Berlin:20200130T235900
DTSTAMP:20260425T151909
CREATED:20190905T111616Z
LAST-MODIFIED:20190905T111726Z
UID:4657-1580342400-1580428740@helmutschmidtgymnasium.de
SUMMARY:Zeugnisse zum Halbjahr
DESCRIPTION:
URL:https://helmutschmidtgymnasium.de/termin/zeugnisse-zum-halbjahr/
END:VEVENT
BEGIN:VEVENT
DTSTART;TZID=Europe/Berlin:20200131T000000
DTEND;TZID=Europe/Berlin:20200131T235959
DTSTAMP:20260425T151909
CREATED:20190905T111704Z
LAST-MODIFIED:20190905T111704Z
UID:4659-1580428800-1580515199@helmutschmidtgymnasium.de
SUMMARY:Organisationstag
DESCRIPTION:unterrichtsfrei
URL:https://helmutschmidtgymnasium.de/termin/organisationstag/
END:VEVENT
END:VCALENDAR