BEGIN:VCALENDAR
VERSION:2.0
PRODID:-//Helmut-Schmidt-Gymnasium - ECPv6.15.15//NONSGML v1.0//EN
CALSCALE:GREGORIAN
METHOD:PUBLISH
X-WR-CALNAME:Helmut-Schmidt-Gymnasium
X-ORIGINAL-URL:https://helmutschmidtgymnasium.de
X-WR-CALDESC:Veranstaltungen für Helmut-Schmidt-Gymnasium
REFRESH-INTERVAL;VALUE=DURATION:PT1H
X-Robots-Tag:noindex
X-PUBLISHED-TTL:PT1H
BEGIN:VTIMEZONE
TZID:Europe/Berlin
BEGIN:DAYLIGHT
TZOFFSETFROM:+0100
TZOFFSETTO:+0200
TZNAME:CEST
DTSTART:20180325T010000
END:DAYLIGHT
BEGIN:STANDARD
TZOFFSETFROM:+0200
TZOFFSETTO:+0100
TZNAME:CET
DTSTART:20181028T010000
END:STANDARD
BEGIN:DAYLIGHT
TZOFFSETFROM:+0100
TZOFFSETTO:+0200
TZNAME:CEST
DTSTART:20190331T010000
END:DAYLIGHT
BEGIN:STANDARD
TZOFFSETFROM:+0200
TZOFFSETTO:+0100
TZNAME:CET
DTSTART:20191027T010000
END:STANDARD
BEGIN:DAYLIGHT
TZOFFSETFROM:+0100
TZOFFSETTO:+0200
TZNAME:CEST
DTSTART:20200329T010000
END:DAYLIGHT
BEGIN:STANDARD
TZOFFSETFROM:+0200
TZOFFSETTO:+0100
TZNAME:CET
DTSTART:20201025T010000
END:STANDARD
END:VTIMEZONE
BEGIN:VEVENT
DTSTART;TZID=Europe/Berlin:20191101T000000
DTEND;TZID=Europe/Berlin:20191101T235959
DTSTAMP:20260425T174407
CREATED:20190905T105449Z
LAST-MODIFIED:20190905T105450Z
UID:4644-1572566400-1572652799@helmutschmidtgymnasium.de
SUMMARY:Brückentag
DESCRIPTION:unterrichtsfrei
URL:https://helmutschmidtgymnasium.de/termin/brueckentag/
END:VEVENT
BEGIN:VEVENT
DTSTART;TZID=Europe/Berlin:20191102T000000
DTEND;TZID=Europe/Berlin:20191103T235959
DTSTAMP:20260425T174407
CREATED:20190905T110143Z
LAST-MODIFIED:20190905T110144Z
UID:4651-1572652800-1572825599@helmutschmidtgymnasium.de
SUMMARY:Elbinselbildungsfestival
DESCRIPTION:
URL:https://helmutschmidtgymnasium.de/termin/elbinselbildungsfestival/
LOCATION:Helmut-Schmidt-Gymnasium/Bildungszentrum Tor zur Welt\, Krieterstraße 2-5\, Hamburg
END:VEVENT
BEGIN:VEVENT
DTSTART;TZID=Europe/Berlin:20191111T000000
DTEND;TZID=Europe/Berlin:20191111T235959
DTSTAMP:20260425T174407
CREATED:20190905T105602Z
LAST-MODIFIED:20190905T105603Z
UID:4646-1573430400-1573516799@helmutschmidtgymnasium.de
SUMMARY:Lernentwicklungsgespräche
DESCRIPTION:
URL:https://helmutschmidtgymnasium.de/termin/lernentwicklungsgespraeche-2/
END:VEVENT
BEGIN:VEVENT
DTSTART;TZID=Europe/Berlin:20191114T170000
DTEND;TZID=Europe/Berlin:20191114T190000
DTSTAMP:20260425T174407
CREATED:20190905T105837Z
LAST-MODIFIED:20190905T105837Z
UID:4649-1573750800-1573758000@helmutschmidtgymnasium.de
SUMMARY:Marktplatz der weiterführenden Schulen
DESCRIPTION:Die weiterführenden Schulen der Elbinseln stellen sich vor!
URL:https://helmutschmidtgymnasium.de/termin/marktplatz-der-weiterfuehrenden-schulen/
LOCATION:Veranstaltungshalle B\, Tor zur Welt Bildungszentrum\, Krieterstraße 2\, Hamburg
END:VEVENT
BEGIN:VEVENT
DTSTART;TZID=Europe/Berlin:20191118T000000
DTEND;TZID=Europe/Berlin:20191118T235959
DTSTAMP:20260425T174407
CREATED:20191126T121038Z
LAST-MODIFIED:20191126T121039Z
UID:4820-1574035200-1574121599@helmutschmidtgymnasium.de
SUMMARY:Podiumsdiskussion
DESCRIPTION:Gedenkkultur\, Rechtspopulismus\, Antisemitismus & antimuslimischer Rassismus
URL:https://helmutschmidtgymnasium.de/termin/podiumsdiskussion/
END:VEVENT
BEGIN:VEVENT
DTSTART;TZID=Europe/Berlin:20191129T180000
DTEND;TZID=Europe/Berlin:20191129T210000
DTSTAMP:20260425T174407
CREATED:20191119T211426Z
LAST-MODIFIED:20191119T211817Z
UID:4798-1575050400-1575061200@helmutschmidtgymnasium.de
SUMMARY:Poetry Night - YOU SHOULD CARE!
DESCRIPTION:https://why-should-i-care.jimdofree.com/project-4-nov-2019/
URL:https://helmutschmidtgymnasium.de/termin/poetry-night-you-should-care/
LOCATION:Im Bildungszentrum Tor zur Welt Krieterstraße 2d\, 21109 Hamburg\, Krieterstraße 2d\, 21109 Hamburg\, Deutschland
END:VEVENT
END:VCALENDAR