BEGIN:VCALENDAR
VERSION:2.0
PRODID:-//Helmut-Schmidt-Gymnasium - ECPv6.15.15//NONSGML v1.0//EN
CALSCALE:GREGORIAN
METHOD:PUBLISH
X-WR-CALNAME:Helmut-Schmidt-Gymnasium
X-ORIGINAL-URL:https://helmutschmidtgymnasium.de
X-WR-CALDESC:Veranstaltungen für Helmut-Schmidt-Gymnasium
REFRESH-INTERVAL;VALUE=DURATION:PT1H
X-Robots-Tag:noindex
X-PUBLISHED-TTL:PT1H
BEGIN:VTIMEZONE
TZID:UTC
BEGIN:STANDARD
TZOFFSETFROM:+0000
TZOFFSETTO:+0000
TZNAME:UTC
DTSTART:20190101T000000
END:STANDARD
END:VTIMEZONE
BEGIN:VEVENT
DTSTART;TZID=UTC:20200811T090000
DTEND;TZID=UTC:20200811T103000
DTSTAMP:20260421T115701
CREATED:20200806T161449Z
LAST-MODIFIED:20200806T161450Z
UID:5858-1597136400-1597141800@helmutschmidtgymnasium.de
SUMMARY:Einschulung 5d
DESCRIPTION:
URL:https://helmutschmidtgymnasium.de/termin/einschulung-5d/
END:VEVENT
BEGIN:VEVENT
DTSTART;TZID=UTC:20200811T103000
DTEND;TZID=UTC:20200811T120000
DTSTAMP:20260421T115701
CREATED:20200806T161553Z
LAST-MODIFIED:20200806T161554Z
UID:5860-1597141800-1597147200@helmutschmidtgymnasium.de
SUMMARY:Einschulung 5e
DESCRIPTION:
URL:https://helmutschmidtgymnasium.de/termin/einschulung-5e/
END:VEVENT
BEGIN:VEVENT
DTSTART;TZID=UTC:20200811T120000
DTEND;TZID=UTC:20200811T133000
DTSTAMP:20260421T115701
CREATED:20200806T161636Z
LAST-MODIFIED:20200806T161636Z
UID:5862-1597147200-1597152600@helmutschmidtgymnasium.de
SUMMARY:Einschulung 5e
DESCRIPTION:
URL:https://helmutschmidtgymnasium.de/termin/einschulung-5e-2/
END:VEVENT
END:VCALENDAR