BEGIN:VCALENDAR
VERSION:2.0
PRODID:-//Helmut-Schmidt-Gymnasium - ECPv6.15.15//NONSGML v1.0//EN
CALSCALE:GREGORIAN
METHOD:PUBLISH
X-ORIGINAL-URL:https://helmutschmidtgymnasium.de
X-WR-CALDESC:Veranstaltungen für Helmut-Schmidt-Gymnasium
REFRESH-INTERVAL;VALUE=DURATION:PT1H
X-Robots-Tag:noindex
X-PUBLISHED-TTL:PT1H
BEGIN:VTIMEZONE
TZID:UTC
BEGIN:STANDARD
TZOFFSETFROM:+0000
TZOFFSETTO:+0000
TZNAME:UTC
DTSTART:20190101T000000
END:STANDARD
END:VTIMEZONE
BEGIN:VEVENT
DTSTART;TZID=UTC:20200810T090000
DTEND;TZID=UTC:20200810T103000
DTSTAMP:20260421T120301
CREATED:20200806T161042Z
LAST-MODIFIED:20200806T161043Z
UID:5852-1597050000-1597055400@helmutschmidtgymnasium.de
SUMMARY:Einschulung 5a
DESCRIPTION:
URL:https://helmutschmidtgymnasium.de/termin/einschulung-5a/
END:VEVENT
BEGIN:VEVENT
DTSTART;TZID=UTC:20200810T103000
DTEND;TZID=UTC:20200810T120000
DTSTAMP:20260421T120301
CREATED:20200806T161216Z
LAST-MODIFIED:20200806T161217Z
UID:5854-1597055400-1597060800@helmutschmidtgymnasium.de
SUMMARY:Einschulung 5b
DESCRIPTION:
URL:https://helmutschmidtgymnasium.de/termin/einschulung-5b/
END:VEVENT
BEGIN:VEVENT
DTSTART;TZID=UTC:20200810T120000
DTEND;TZID=UTC:20200810T133000
DTSTAMP:20260421T120301
CREATED:20200806T161320Z
LAST-MODIFIED:20200806T161320Z
UID:5856-1597060800-1597066200@helmutschmidtgymnasium.de
SUMMARY:Einschulung 5c
DESCRIPTION:
URL:https://helmutschmidtgymnasium.de/termin/einschulung-5c/
END:VEVENT
END:VCALENDAR