BEGIN:VCALENDAR
VERSION:2.0
PRODID:-//Helmut-Schmidt-Gymnasium - ECPv6.15.15//NONSGML v1.0//EN
CALSCALE:GREGORIAN
METHOD:PUBLISH
X-ORIGINAL-URL:https://helmutschmidtgymnasium.de
X-WR-CALDESC:Veranstaltungen für Helmut-Schmidt-Gymnasium
REFRESH-INTERVAL;VALUE=DURATION:PT1H
X-Robots-Tag:noindex
X-PUBLISHED-TTL:PT1H
BEGIN:VTIMEZONE
TZID:UTC
BEGIN:STANDARD
TZOFFSETFROM:+0000
TZOFFSETTO:+0000
TZNAME:UTC
DTSTART:20190101T000000
END:STANDARD
END:VTIMEZONE
BEGIN:VEVENT
DTSTART;TZID=UTC:20200806T080000
DTEND;TZID=UTC:20200806T120000
DTSTAMP:20260421T115247
CREATED:20200626T102232Z
LAST-MODIFIED:20200626T102233Z
UID:5809-1596700800-1596715200@helmutschmidtgymnasium.de
SUMMARY:Erster Schultag nach den Sommerferien
DESCRIPTION:
URL:https://helmutschmidtgymnasium.de/termin/erster-schultag-nach-den-sommerferien-3/
END:VEVENT
END:VCALENDAR