BEGIN:VCALENDAR
VERSION:2.0
PRODID:-//Helmut-Schmidt-Gymnasium - ECPv6.15.15//NONSGML v1.0//EN
CALSCALE:GREGORIAN
METHOD:PUBLISH
X-ORIGINAL-URL:https://helmutschmidtgymnasium.de
X-WR-CALDESC:Veranstaltungen für Helmut-Schmidt-Gymnasium
REFRESH-INTERVAL;VALUE=DURATION:PT1H
X-Robots-Tag:noindex
X-PUBLISHED-TTL:PT1H
BEGIN:VTIMEZONE
TZID:Europe/Berlin
BEGIN:DAYLIGHT
TZOFFSETFROM:+0100
TZOFFSETTO:+0200
TZNAME:CEST
DTSTART:20180325T010000
END:DAYLIGHT
BEGIN:STANDARD
TZOFFSETFROM:+0200
TZOFFSETTO:+0100
TZNAME:CET
DTSTART:20181028T010000
END:STANDARD
BEGIN:DAYLIGHT
TZOFFSETFROM:+0100
TZOFFSETTO:+0200
TZNAME:CEST
DTSTART:20190331T010000
END:DAYLIGHT
BEGIN:STANDARD
TZOFFSETFROM:+0200
TZOFFSETTO:+0100
TZNAME:CET
DTSTART:20191027T010000
END:STANDARD
BEGIN:DAYLIGHT
TZOFFSETFROM:+0100
TZOFFSETTO:+0200
TZNAME:CEST
DTSTART:20200329T010000
END:DAYLIGHT
BEGIN:STANDARD
TZOFFSETFROM:+0200
TZOFFSETTO:+0100
TZNAME:CET
DTSTART:20201025T010000
END:STANDARD
END:VTIMEZONE
BEGIN:VEVENT
DTSTART;TZID=Europe/Berlin:20191114T170000
DTEND;TZID=Europe/Berlin:20191114T190000
DTSTAMP:20260425T185801
CREATED:20190905T105837Z
LAST-MODIFIED:20190905T105837Z
UID:4649-1573750800-1573758000@helmutschmidtgymnasium.de
SUMMARY:Marktplatz der weiterführenden Schulen
DESCRIPTION:Die weiterführenden Schulen der Elbinseln stellen sich vor!
URL:https://helmutschmidtgymnasium.de/termin/marktplatz-der-weiterfuehrenden-schulen/
LOCATION:Veranstaltungshalle B\, Tor zur Welt Bildungszentrum\, Krieterstraße 2\, Hamburg
END:VEVENT
END:VCALENDAR