BEGIN:VCALENDAR
VERSION:2.0
PRODID:-//Helmut-Schmidt-Gymnasium - ECPv6.15.15//NONSGML v1.0//EN
CALSCALE:GREGORIAN
METHOD:PUBLISH
X-ORIGINAL-URL:https://helmutschmidtgymnasium.de
X-WR-CALDESC:Veranstaltungen für Helmut-Schmidt-Gymnasium
REFRESH-INTERVAL;VALUE=DURATION:PT1H
X-Robots-Tag:noindex
X-PUBLISHED-TTL:PT1H
BEGIN:VTIMEZONE
TZID:Europe/Berlin
BEGIN:DAYLIGHT
TZOFFSETFROM:+0100
TZOFFSETTO:+0200
TZNAME:CEST
DTSTART:20180325T010000
END:DAYLIGHT
BEGIN:STANDARD
TZOFFSETFROM:+0200
TZOFFSETTO:+0100
TZNAME:CET
DTSTART:20181028T010000
END:STANDARD
BEGIN:DAYLIGHT
TZOFFSETFROM:+0100
TZOFFSETTO:+0200
TZNAME:CEST
DTSTART:20190331T010000
END:DAYLIGHT
BEGIN:STANDARD
TZOFFSETFROM:+0200
TZOFFSETTO:+0100
TZNAME:CET
DTSTART:20191027T010000
END:STANDARD
BEGIN:DAYLIGHT
TZOFFSETFROM:+0100
TZOFFSETTO:+0200
TZNAME:CEST
DTSTART:20200329T010000
END:DAYLIGHT
BEGIN:STANDARD
TZOFFSETFROM:+0200
TZOFFSETTO:+0100
TZNAME:CET
DTSTART:20201025T010000
END:STANDARD
END:VTIMEZONE
BEGIN:VEVENT
DTSTART;TZID=Europe/Berlin:20191021T000000
DTEND;TZID=Europe/Berlin:20191025T235959
DTSTAMP:20260426T014123
CREATED:20190905T105201Z
LAST-MODIFIED:20190905T105202Z
UID:4638-1571616000-1572047999@helmutschmidtgymnasium.de
SUMMARY:Klassenreisen Jahrgang 6
DESCRIPTION:
URL:https://helmutschmidtgymnasium.de/termin/klassenreisen-jahrgang-6/
END:VEVENT
BEGIN:VEVENT
DTSTART;TZID=Europe/Berlin:20191022T000000
DTEND;TZID=Europe/Berlin:20191029T235959
DTSTAMP:20260426T014123
CREATED:20190905T105329Z
LAST-MODIFIED:20190905T105329Z
UID:4640-1571702400-1572393599@helmutschmidtgymnasium.de
SUMMARY:Projekt P21
DESCRIPTION:fächerübergreifende Projektarbeit im Profil\, Jahrgang 11
URL:https://helmutschmidtgymnasium.de/termin/projekt-p21/
END:VEVENT
END:VCALENDAR